BEGIN:VCALENDAR
VERSION:2.0
PRODID:-//wp-events-plugin.com//7.1.7//EN
BEGIN:VEVENT
UID:21@lamirage-portaransas.com
DTSTART:20251207T143000Z
DTEND:20251221T163000Z
DTSTAMP:20251117T163256Z
URL:https://lamirage-portaransas.com/events/the-winter-wonderettes-musical
SUMMARY:The Winter Wonderettes Musical
DESCRIPTION:The Wonderettes are back in action! This festive celebration br
 ings the girls to the annual Harper’s Hardware Holiday Party\, where the
 y’ll spread joy and cheer. When Santa mysteriously goes missing\, the gi
 rls step up with their talents and creativity to ensure the holiday festiv
 ities go off without a hitch! Featuring delightful 1960s renditions of hol
 iday favorites like “Santa Claus Is Comin’ to Town\,” “Jingle Bell
  Rock\,” “Run\, Rudolph\, Run\,” and “Winter Wonderland\,” this 
 performance is sure to be a hit! This lively and sparkling holiday show pr
 omises to enchant audiences of all ages.\n\n$22 a ticket\n\n12/7/25\n\n12/
 14/25\n\n12/21/25\n\nWritten &amp\; Created by Roger Bean\, Directed by De
 bra Aquilar\n\nWinter Wonderettes is presented through special arrangement
  with Broadway Licensing\, LLC (www.broadwaylicensing.com). The Port Arans
 as Community Theatre (PACT) aims to entertain\, inform\, and educate\, enr
 iching the cultural landscape of the Texas Coastal Bend. PACT provides res
 idents and visitors with opportunities to enjoy and engage in quality live
  performances from a diverse range of theatrical works. They also offer ed
 ucational programs in theatre arts for adults\, young adults\, and childre
 n\, all while adhering to high standards and maintaining responsible manag
 ement.
ATTACH;FMTTYPE=image/jpeg:https://lamirage-portaransas.com/wp-content/uplo
 ads/2025/11/Winter-Wonderettes.png
END:VEVENT
END:VCALENDAR